

BEGIN:VCALENDAR
VERSION:2.0
PRODID:-//hacksw/handcal//NONSGML v1.0//EN
CALSCALE:GREGORIAN
BEGIN:VEVENT
DTEND:20150701T000000
UID:69ecb7cdc2070
DTSTAMP:20260425T224709
LOCATION:Knox Community Arts Centre Cnr. Mountain Highway & Scoresby Road Bayswater  VIC
DESCRIPTION:We are pleased to be able to announce that the dates for the Knox Art Show in 2014 are now available.
The 40th Annual Knox Art Show will be held on and prior to the weekend of 29th - 30th March 2014.
The venue will be the Knox Community Arts Centre on the corner of Bayswater Road and Mountain Highway in Bayswater.
For detailed information and sponsorship&nbsp\;opportunities please see our dedicated Art Show website www.knoxartshow.org.au. When you are there please take a look at the entries from Art Show 39 - 2013 and click on the links to our wonderful sponsors spread throughout the website.
URL;VALUE=URI:http://bayswaterrotary.org.au/event/5607
SUMMARY:Knox Art Show
DTSTART:20150701T000000
END:VEVENT
END:VCALENDAR

