

BEGIN:VCALENDAR
VERSION:2.0
PRODID:-//hacksw/handcal//NONSGML v1.0//EN
CALSCALE:GREGORIAN
BEGIN:VEVENT
DTEND:20191003T210000
UID:69ec15fb3c65f
DTSTAMP:20260425T111643
LOCATION:The Coach 33 Maroondah Highway Ringwood  VIC
DESCRIPTION:Palmas for Polio
Palmas for Polio is a fundraiser to help combat polio. Organised by the NewGen Rotary Club\, the guest speaker will be Ian Riseley\, Past Rotary International President.
URL;VALUE=URI:http://bayswaterrotary.org.au/event/40432
SUMMARY:Parmas for Polio
DTSTART:20191003T183000
END:VEVENT
END:VCALENDAR

