

BEGIN:VCALENDAR
VERSION:2.0
PRODID:-//hacksw/handcal//NONSGML v1.0//EN
CALSCALE:GREGORIAN
BEGIN:VEVENT
DTEND:20190916T203000
UID:69ec000356705
DTSTAMP:20260425T094259
LOCATION:Bayswater Secondary College Orchard Road Bayswater 3153 VIC
DESCRIPTION:Knox Rotaract Meet and Greet
Are you an 18 to 30 year old looking to meet like-minded young people to Have Fun\, Learn About Yourself and Make a Difference to other people's lives?
Come and meet us on 16 September and find out more about Rotaract. It could just be the opportunity you've been looking for.
Free Entry.
Event Brochure
Not sure? See what Rotaract does.
About Rotaract
&nbsp\;
URL;VALUE=URI:http://bayswaterrotary.org.au/event/40200
SUMMARY:Rotaract Meet and Greet
DTSTART:20190916T190000
END:VEVENT
END:VCALENDAR

