

BEGIN:VCALENDAR
VERSION:2.0
PRODID:-//hacksw/handcal//NONSGML v1.0//EN
CALSCALE:GREGORIAN
BEGIN:VEVENT
DTEND:20190608T140000
UID:69ebe7f81289c
DTSTAMP:20260425T080024
LOCATION:Bunnings Bayswater 183-225 Canterbury Road Bayswater 3153 VIC
DESCRIPTION:Homelessness
An important Fundraiser - the homeless need our support.
Our Youth Exchange Students will be selling traditional Italian and German cookies to raise funds for the Beds for the Homeless Charity.
URL;VALUE=URI:http://bayswaterrotary.org.au/event/39262
SUMMARY:Fundraiser
DTSTART:20190608T100000
END:VEVENT
END:VCALENDAR

