

BEGIN:VCALENDAR
VERSION:2.0
PRODID:-//hacksw/handcal//NONSGML v1.0//EN
CALSCALE:GREGORIAN
BEGIN:VEVENT
DTEND:20190315T160000
UID:69ebd613c9f51
DTSTAMP:20260425T064403
LOCATION:Bunnings Bayswater Canterbury Road Bayswater 3153 VIC
DESCRIPTION:
URL;VALUE=URI:http://bayswaterrotary.org.au/event/38006
SUMMARY:Bunnings Sausage Sizzle
DTSTART:20190315T080000
END:VEVENT
END:VCALENDAR

