

BEGIN:VCALENDAR
VERSION:2.0
PRODID:-//hacksw/handcal//NONSGML v1.0//EN
CALSCALE:GREGORIAN
BEGIN:VEVENT
DTEND:20181013T160000
UID:69ebbfbe54668
DTSTAMP:20260425T050846
LOCATION:Bunnings Bayswater North 183-225 Canterbury Road Bayswater 3153 VIC
DESCRIPTION:Lift The Lid is an Australia-wide event to raise funds for Australian Rotary Health mental health research. 100% of the money raised during this year's Hat Day campaign goes directly to research helping the one in five Australians affected by depression\, anxiety\, schizophrenia and many other illnesses.
URL;VALUE=URI:http://bayswaterrotary.org.au/event/35876
SUMMARY:Lift The Lid on Mental Illness
DTSTART:20181013T080000
END:VEVENT
END:VCALENDAR

