

BEGIN:VCALENDAR
VERSION:2.0
PRODID:-//hacksw/handcal//NONSGML v1.0//EN
CALSCALE:GREGORIAN
BEGIN:VEVENT
DTEND:20180818T160000
UID:69ebab09dbfe4
DTSTAMP:20260425T034025
LOCATION:Bunnings Bayswater North 183-225 Canterbury Road Bayswater North 3140 VIC
DESCRIPTION:To help fund community projects\, the Club is holding a sausage sizzle at Bunnings. The Club is continually receiving requests for help\, and this event will enable us to do more for people in need.
URL;VALUE=URI:http://bayswaterrotary.org.au/event/35768
SUMMARY:Fundraiser for Community Work
DTSTART:20180818T080000
END:VEVENT
END:VCALENDAR

