

BEGIN:VCALENDAR
VERSION:2.0
PRODID:-//hacksw/handcal//NONSGML v1.0//EN
CALSCALE:GREGORIAN
BEGIN:VEVENT
DTEND:20180318T163000
UID:69eb7fdba4d34
DTSTAMP:20260425T003611
LOCATION:Knox Community Arts Centre Cnr Mountain Highway and Scoresby Road Bayswater 3153 VIC
DESCRIPTION:
URL;VALUE=URI:http://bayswaterrotary.org.au/event/32540
SUMMARY:Knox Art Show
DTSTART:20180317T100000
END:VEVENT
END:VCALENDAR

