

BEGIN:VCALENDAR
VERSION:2.0
PRODID:-//hacksw/handcal//NONSGML v1.0//EN
CALSCALE:GREGORIAN
BEGIN:VEVENT
DTEND:20171108T210000
UID:69eb96de0cdb8
DTSTAMP:20260425T021422
LOCATION:Croydon Cinemsa 3 Hewish Road Croydon  VIC
DESCRIPTION:Want to support the effort to eradicate Polio forever?
Launched in 1985\, Rotary's campaign to eradicate polio is almost there - just 11 cases reported this year in Afghanistan and Pakistan. But funds are needed urgently to continue the campaign totally eradicate polio.
URL;VALUE=URI:http://bayswaterrotary.org.au/event/29576
SUMMARY:Polio Plus Fundraiser
DTSTART:20171108T183000
END:VEVENT
END:VCALENDAR

