

BEGIN:VCALENDAR
VERSION:2.0
PRODID:-//hacksw/handcal//NONSGML v1.0//EN
CALSCALE:GREGORIAN
BEGIN:VEVENT
DTEND:20171024T235900
UID:69ebb1a3e682c
DTSTAMP:20260425T040835
LOCATION:Bayswater Clubrooms Cnr Mountain Highway and King Street Bayswater 3153 VIC
DESCRIPTION:World Polio Day will focus on progress with Rotary's worldwide campaign to End Polio.
The 5th Annual World Polio Day event will be co-hosted with the Bill &amp\; Melinda Gates Foundation.
The event will stream live from Gates Foundation headquarters in Seattle\, Washington to bring together more than 50\,000 viewers around the world - at 8.30 am Australian Eastern Summer Time.
Join us as global health experts and celebrities share our progress on the road to polio eradication.
&nbsp\;
URL;VALUE=URI:http://bayswaterrotary.org.au/event/29475
SUMMARY:World Polio Day
DTSTART:20171024T000000
END:VEVENT
END:VCALENDAR

