

BEGIN:VCALENDAR
VERSION:2.0
PRODID:-//hacksw/handcal//NONSGML v1.0//EN
CALSCALE:GREGORIAN
BEGIN:VEVENT
DTEND:20171008T160000
UID:69ebc5fbcfdd3
DTSTAMP:20260425T053523
LOCATION:Bunnings Canterbury Road Bayswater 3153 VIC
DESCRIPTION:
URL;VALUE=URI:http://bayswaterrotary.org.au/event/28894
SUMMARY:Mental Health - an Australia-wide Problem
DTSTART:20171006T063000
END:VEVENT
END:VCALENDAR

