

BEGIN:VCALENDAR
VERSION:2.0
PRODID:-//hacksw/handcal//NONSGML v1.0//EN
CALSCALE:GREGORIAN
BEGIN:VEVENT
DTEND:20161115T203000
UID:69ec0661e8a6b
DTSTAMP:20260425T101009
LOCATION:The Knox Club 480 Boronia Road Wantirna South 3152 WA
DESCRIPTION:Invitation to a Free Information Evening
Dr Bruce Wells - The Happiness Expert - talking about Volunteering &amp\; Happiness
&nbsp\;
November 15 - 6.30 pm for 7.00 pm
 THE KNOX CLUB
&nbsp\;
480 Boronia Road\, Wantirna South\, VIC\, 3152
&nbsp\;
Dr Bruce Wells has appeared on national television and is regular speaker at Corporate events and conferences.
&nbsp\;
He is coming to support the Rotary Clubs in the Knox area and speak on:
&nbsp\;
&ldquo\;topics related to helping people live happier and more fulfilling lives by cultivating healthy lifestyle habits\, establishing a life balance\, mastering resiliency skills\, practicing meaningful communication\, and living a purposeful value-driven life.&rdquo\;
&nbsp\;
&nbsp\;Finger food will be served and drinks will be available at the Bar.
&nbsp\;
URL;VALUE=URI:http://bayswaterrotary.org.au/event/22290
SUMMARY:Volunteering and Happiness
DTSTART:20161115T183000
END:VEVENT
END:VCALENDAR

