

BEGIN:VCALENDAR
VERSION:2.0
PRODID:-//hacksw/handcal//NONSGML v1.0//EN
CALSCALE:GREGORIAN
BEGIN:VEVENT
DTEND:20160827T150000
UID:69ec1b3ec2490
DTSTAMP:20260425T113910
LOCATION:Marie Wallace Reserve Cnr Mountain Highway and King Street Bayswater 3153 VIC
DESCRIPTION:The Dolly Parton Imagination Library will be coming to Bayswater on Saturday 27 August 2016.
Parents with children aged between newborn and 5 years can register their children to receive a free book every month.
&nbsp\;
URL;VALUE=URI:http://bayswaterrotary.org.au/event/20763
SUMMARY:Dolly Parton Imagination Library comes to Bayswater
DTSTART:20160827T103000
END:VEVENT
END:VCALENDAR

