

BEGIN:VCALENDAR
VERSION:2.0
PRODID:-//hacksw/handcal//NONSGML v1.0//EN
CALSCALE:GREGORIAN
BEGIN:VEVENT
DTEND:20170819T230000
UID:69ebda2a90b28
DTSTAMP:20260425T070130
LOCATION:Bayswater Secondary College Orchard Road Bayswater 3153 VIC
DESCRIPTION:Want a really fun night? Come and see Rotaractors and Rotarians make fools of themselves - all in a good cause.
Red Faces is a night of fun and frivolity being organised by Knox Rotaractors to raise funds for Beyond Blue.
URL;VALUE=URI:http://bayswaterrotary.org.au/event/19548
SUMMARY:Red Faces Night
DTSTART:20170819T190000
END:VEVENT
END:VCALENDAR

