

BEGIN:VCALENDAR
VERSION:2.0
PRODID:-//hacksw/handcal//NONSGML v1.0//EN
CALSCALE:GREGORIAN
BEGIN:VEVENT
DTEND:20160709T233000
UID:69ec3013eee0b
DTSTAMP:20260425T130803
LOCATION:Eastwood Golf Club Liverpool Road Kilsyth South 3137 VIC
DESCRIPTION:
URL;VALUE=URI:http://bayswaterrotary.org.au/event/19172
SUMMARY:Literacy Program for Newborns
DTSTART:20160709T183000
END:VEVENT
END:VCALENDAR

