

BEGIN:VCALENDAR
VERSION:2.0
PRODID:-//hacksw/handcal//NONSGML v1.0//EN
CALSCALE:GREGORIAN
BEGIN:VEVENT
DTEND:20170305T170000
UID:69ebed8c12ea0
DTSTAMP:20260425T082412
LOCATION:Knox Community Arts Centre Cnr Mountain Highway and Scoresby Road  Bayswater 3153 VIC
DESCRIPTION:The Knox Art Show is one of the premier events of the Rotary Club of Bayswater. In the 42 years it has been running\, well over $300\,000 has been raised to support people in need in the local community.The many beneficiaries include:
Eastern Ranges School for children on the autism spectrum
Bayswater CFA
Arrabri Community House
C.H.A.M.P.I.O.N. Community Hub and Meeting Place
URL;VALUE=URI:http://bayswaterrotary.org.au/event/15104
SUMMARY:43rd Knox Art Show
DTSTART:20170304T100000
END:VEVENT
END:VCALENDAR

