

BEGIN:VCALENDAR
VERSION:2.0
PRODID:-//hacksw/handcal//NONSGML v1.0//EN
CALSCALE:GREGORIAN
BEGIN:VEVENT
DTEND:20151014T203000
UID:69eca1647c3c7
DTSTAMP:20260425T211132
LOCATION:Bayswater Clubrooms 3 Station Street Bayswater 3153 VIC
DESCRIPTION:
URL;VALUE=URI:http://bayswaterrotary.org.au/event/14011
SUMMARY:Killing Malaria
DTSTART:20151014T183000
END:VEVENT
END:VCALENDAR

